BEGIN:VCALENDAR
VERSION:2.0
PRODID:-// - ECPv6.15.17//NONSGML v1.0//EN
CALSCALE:GREGORIAN
METHOD:PUBLISH
X-ORIGINAL-URL:https://hof-becker.de
X-WR-CALDESC:Veranstaltungen für 
REFRESH-INTERVAL;VALUE=DURATION:PT1H
X-Robots-Tag:noindex
X-PUBLISHED-TTL:PT1H
BEGIN:VTIMEZONE
TZID:UTC
BEGIN:STANDARD
TZOFFSETFROM:+0000
TZOFFSETTO:+0000
TZNAME:UTC
DTSTART:20250101T000000
END:STANDARD
END:VTIMEZONE
BEGIN:VEVENT
DTSTART;TZID=UTC:20260314T190000
DTEND;TZID=UTC:20260314T220000
DTSTAMP:20260420T064844
CREATED:20260306T090207Z
LAST-MODIFIED:20260306T090207Z
UID:121-1773514800-1773525600@hof-becker.de
SUMMARY:VER-Dinale Showwettbewerb
DESCRIPTION:Showwettbewerb der Reitvereine \nVER-Dinale 2026\nSamstag 14.03.2026  ab 19 Uhr \nNiedersachsenhalle\, Lindhooper Str. 92\, 27283 Verden \nTickets sichern – hier klicken.  \nDer Reitclub Hof-Becker e.V. tritt am 14. März zum Showwettbewerb der Reitvereine während der VER-Dinale 2026 an. Mit dem Schaubild „Schwarzes Gold“ haben die engagierten Clubmitglieder und deren Angehörige ein einzigartiges Schaubild erschaffen. Heike Becker wird als Martha Lambert durch die Geschichte führen und mit ihrer Stute Tiara passend zur Musik Dressurelemnte interpretieren und darbieten. Insgesamt werden 14 Reiterinnen des Hof-Becker vertreten sein und  geführte Shetlandponys. In Kooperation mit dem Working Equitation Ostfriesland e.V. fließen in die feurigen Szenen Elemente der Working Equitation mit ein. Im Gesamten bietet sich eine bunte Collage an Szenen die sich durch Choreografie des Fußvolkes über feine Dressurelementen bis hin zu reißerischen Galoppjagden definiert. \nDer Showwettbewerb startet am 14. März 2026 um 19:00 Uhr in der Niedersachsenhalle in Verden. Nach zwei einleitenden Showacts\, um ca. 20:05\,  wird der RC Hof-Becker als erstes zu wertendes Schaubild starten. \nWir freuen uns über zahlreiche Unterstützende im Publikum! Ihr seid herzlich eingeladen.
URL:https://hof-becker.de/event/ver-dinale-showwettbewerb/
LOCATION:Niedersachsenhalle\, Lindhooper Str. 92\, Verden\, Niedersachsen\, 27283\, Germany
END:VEVENT
END:VCALENDAR