BEGIN:VCALENDAR
VERSION:2.0
PRODID:-// - ECPv6.15.17//NONSGML v1.0//EN
CALSCALE:GREGORIAN
METHOD:PUBLISH
X-ORIGINAL-URL:https://hof-becker.de
X-WR-CALDESC:Veranstaltungen für 
REFRESH-INTERVAL;VALUE=DURATION:PT1H
X-Robots-Tag:noindex
X-PUBLISHED-TTL:PT1H
BEGIN:VTIMEZONE
TZID:UTC
BEGIN:STANDARD
TZOFFSETFROM:+0000
TZOFFSETTO:+0000
TZNAME:UTC
DTSTART:20250101T000000
END:STANDARD
END:VTIMEZONE
BEGIN:VEVENT
DTSTART;TZID=UTC:20260405T180000
DTEND;TZID=UTC:20260405T220000
DTSTAMP:20260420T052348
CREATED:20260305T180942Z
LAST-MODIFIED:20260403T112026Z
UID:101-1775412000-1775426400@hof-becker.de
SUMMARY:Osterfeuer
DESCRIPTION:Osterfeuer auf Hof Becker \nAm Ostersonntag ab 17 Uhr laden wir herzlich zum traditionellen Osterfeuer auf dem Pferdezentrum Hof Becker in Oyten ein!\nFür unsere kleinen Gäste startet der Nachmittag mit einer fröhlichen Ostereiersuche rund um den Hof. Wer mitmachen möchte\, meldet sich bitte vorab bei Nadine unter 0152 56389099 an.\nDer Unkostenbeitrag für die Ostereiersuche beträgt 5 € pro Kind. \nIm Anschluss wird es gemütlich: Wir starten den Grill und genießen gemeinsam ein schönes BBQ am großen Osterfeuer.\nFür das leibliche Wohl ist gesorgt – Essen und Getränke können vor Ort erworben werden. \nKommt vorbei und verbringt mit uns einen stimmungsvollen Frühlingsabend bei Feuer\, Essen und guter Gesellschaft!\n📍 Pferdezentrum Hof Becker\nBrillkamp 34\, 28876 Oyten
URL:https://hof-becker.de/event/osterfeuer/
LOCATION:Pferdezentrum Hof-Becker\, Brillkamp 34\, Oyten\, Niedersachsen\, 28876\, Germany
ATTACH;FMTTYPE=image/jpeg:https://hof-becker.de/wp-content/uploads/2026/03/beeki-fire-15362-scaled.jpg
ORGANIZER;CN="Pferdezentrum Hof-Becker":MAILTO:heike@hof-becker.de
END:VEVENT
END:VCALENDAR