BEGIN:VCALENDAR
VERSION:2.0
PRODID:-// - ECPv6.15.17//NONSGML v1.0//EN
CALSCALE:GREGORIAN
METHOD:PUBLISH
X-ORIGINAL-URL:https://hof-becker.de
X-WR-CALDESC:Veranstaltungen für 
REFRESH-INTERVAL;VALUE=DURATION:PT1H
X-Robots-Tag:noindex
X-PUBLISHED-TTL:PT1H
BEGIN:VTIMEZONE
TZID:UTC
BEGIN:STANDARD
TZOFFSETFROM:+0000
TZOFFSETTO:+0000
TZNAME:UTC
DTSTART:20250101T000000
END:STANDARD
END:VTIMEZONE
BEGIN:VEVENT
DTSTART;VALUE=DATE:20260703
DTEND;VALUE=DATE:20260707
DTSTAMP:20260420T081625
CREATED:20260306T092704Z
LAST-MODIFIED:20260403T121016Z
UID:131-1783036800-1783382399@hof-becker.de
SUMMARY:Hof-Becker Showcamp
DESCRIPTION:Infos folgen. \n  \nFoto: https://www.instagram.com/holm.fotografie/
URL:https://hof-becker.de/event/hof-becker-showcamp/
LOCATION:Pferdezentrum Hof-Becker\, Brillkamp 34\, Oyten\, Niedersachsen\, 28876\, Germany
ATTACH;FMTTYPE=image/jpeg:https://hof-becker.de/wp-content/uploads/2026/03/83FDE75C-D8AA-4225-A9F1-FE3E6DD9A50A-scaled.jpg
ORGANIZER;CN="Pferdezentrum Hof-Becker":MAILTO:heike@hof-becker.de
END:VEVENT
END:VCALENDAR