BEGIN:VCALENDAR
VERSION:2.0
PRODID:-// - ECPv6.15.17//NONSGML v1.0//EN
CALSCALE:GREGORIAN
METHOD:PUBLISH
X-ORIGINAL-URL:https://hof-becker.de
X-WR-CALDESC:Veranstaltungen für 
REFRESH-INTERVAL;VALUE=DURATION:PT1H
X-Robots-Tag:noindex
X-PUBLISHED-TTL:PT1H
BEGIN:VTIMEZONE
TZID:UTC
BEGIN:STANDARD
TZOFFSETFROM:+0000
TZOFFSETTO:+0000
TZNAME:UTC
DTSTART:20250101T000000
END:STANDARD
END:VTIMEZONE
BEGIN:VEVENT
DTSTART;TZID=UTC:20261205T020000
DTEND;TZID=UTC:20261205T180000
DTSTAMP:20260420T033905
CREATED:20260306T093802Z
LAST-MODIFIED:20260306T093802Z
UID:139-1796436000-1796493600@hof-becker.de
SUMMARY:Plätzchenbacken mit Ricky
DESCRIPTION:Infos folgen.
URL:https://hof-becker.de/event/plaetzchenbacken-mit-ricky/
LOCATION:Pferdezentrum Hof-Becker\, Brillkamp 34\, Oyten\, Niedersachsen\, 28876\, Germany
ORGANIZER;CN="Pferdezentrum Hof-Becker":MAILTO:heike@hof-becker.de
END:VEVENT
BEGIN:VEVENT
DTSTART;TZID=UTC:20261212T020000
DTEND;TZID=UTC:20261212T190000
DTSTAMP:20260420T033905
CREATED:20260306T094359Z
LAST-MODIFIED:20260306T094359Z
UID:141-1797040800-1797102000@hof-becker.de
SUMMARY:Stall- und Sternenglanz
DESCRIPTION:Stall- und Sternenglanz – Die Weihnachtsfeier am Hof-Becker\nOrt: Pferdezentrum Hof-Becker\, Brillkamp 34\, 28876 Oyten\nTermin: 12.12.2026 \nWenn Lichterglanz die Stallgasse erhellt und es nach Tannennadeln duftet\, ist es wieder so weit: Der Hof-Becker lädt herzlich zur alljährlichen Weihnachtsfeier „Stall- und Sternenglanz“ ein! \nUnsere Reitschüler:innen präsentieren festliche Schaubilder rund um den Zauber der Weihnachtszeit – mit liebevoll geschmückten Pferden\, stimmungsvoller Musik und vielen kleinen Überraschungen. Im Anschluss besucht uns der Weihnachtsmann und sorgt mit seiner traditionellen Bescherung für leuchtende Kinderaugen. \nKommt vorbei und genießt gemeinsam mit Familie und Freunden einen Nachmittag voller Weihnachtsstimmung\, Pferdeglanz und Hofmagie.\nFür das leibliche Wohl ist gesorgt – Essen und Getränke können vor Ort erworben werden.
URL:https://hof-becker.de/event/stall-und-sternenglanz/
LOCATION:Pferdezentrum Hof-Becker\, Brillkamp 34\, Oyten\, Niedersachsen\, 28876\, Germany
ORGANIZER;CN="Pferdezentrum Hof-Becker":MAILTO:heike@hof-becker.de
END:VEVENT
END:VCALENDAR