BEGIN:VCALENDAR
VERSION:2.0
PRODID:-// - ECPv6.15.17//NONSGML v1.0//EN
CALSCALE:GREGORIAN
METHOD:PUBLISH
X-ORIGINAL-URL:https://hof-becker.de
X-WR-CALDESC:Veranstaltungen für 
REFRESH-INTERVAL;VALUE=DURATION:PT1H
X-Robots-Tag:noindex
X-PUBLISHED-TTL:PT1H
BEGIN:VTIMEZONE
TZID:UTC
BEGIN:STANDARD
TZOFFSETFROM:+0000
TZOFFSETTO:+0000
TZNAME:UTC
DTSTART:20250101T000000
END:STANDARD
END:VTIMEZONE
BEGIN:VEVENT
DTSTART;VALUE=DATE:20260703
DTEND;VALUE=DATE:20260707
DTSTAMP:20260424T083514
CREATED:20260306T092704Z
LAST-MODIFIED:20260403T121016Z
UID:131-1783036800-1783382399@hof-becker.de
SUMMARY:Hof-Becker Showcamp
DESCRIPTION:Infos folgen. \n  \nFoto: https://www.instagram.com/holm.fotografie/
URL:https://hof-becker.de/event/hof-becker-showcamp/
LOCATION:Pferdezentrum Hof-Becker\, Brillkamp 34\, Oyten\, Niedersachsen\, 28876\, Germany
ATTACH;FMTTYPE=image/jpeg:https://hof-becker.de/wp-content/uploads/2026/03/83FDE75C-D8AA-4225-A9F1-FE3E6DD9A50A-scaled.jpg
ORGANIZER;CN="Pferdezentrum Hof-Becker":MAILTO:heike@hof-becker.de
END:VEVENT
BEGIN:VEVENT
DTSTART;VALUE=DATE:20260720
DTEND;VALUE=DATE:20260725
DTSTAMP:20260424T083514
CREATED:20260306T092813Z
LAST-MODIFIED:20260306T092829Z
UID:133-1784505600-1784937599@hof-becker.de
SUMMARY:Sommercamp
DESCRIPTION:Infos folgen.
URL:https://hof-becker.de/event/sommercamp/
LOCATION:Pferdezentrum Hof-Becker\, Brillkamp 34\, Oyten\, Niedersachsen\, 28876\, Germany
ORGANIZER;CN="Pferdezentrum Hof-Becker":MAILTO:heike@hof-becker.de
END:VEVENT
BEGIN:VEVENT
DTSTART;TZID=UTC:20260720T080000
DTEND;TZID=UTC:20260724T160000
DTSTAMP:20260424T083514
CREATED:20260403T114347Z
LAST-MODIFIED:20260403T114416Z
UID:298-1784534400-1784908800@hof-becker.de
SUMMARY:Feriencamp Hof-Becker
DESCRIPTION:Pferdefreunde Aufgepasst! \nEuch erwartet ein unvergessliches Camp mit tollen Erlebnissen\, super netten Leuten und ganz viel Zeit mit Pferden! Wir stellen für euch ein buntes Programm zusammen und freuen uns auf eine tolle Zeit mit euch! Das Camp ist für Kinder zwischen 8 und 16 Jahren. \nPreis pro Kind: 320\,00 € (inklusive Übernachtung und Vollverpflegung) \nAnreise zwischen 9:00 Uhr und 10:00 Uhr \nDas Camp endet am letzten Tag um 15 Uhr mit einer Aufführung für die Familie.
URL:https://hof-becker.de/event/feriencamp-hof-becker/
ATTACH;FMTTYPE=image/jpeg:https://hof-becker.de/wp-content/uploads/2026/03/Pony-Striegeln.jpg
ORGANIZER;CN="Pferdezentrum Hof-Becker":MAILTO:heike@hof-becker.de
END:VEVENT
BEGIN:VEVENT
DTSTART;TZID=UTC:20260727T080000
DTEND;TZID=UTC:20260803T170000
DTSTAMP:20260424T083514
CREATED:20260305T180503Z
LAST-MODIFIED:20260405T070310Z
UID:95-1785139200-1785776400@hof-becker.de
SUMMARY:Sommerlehrgang Reitabzeichen 7-2
DESCRIPTION:Wir bieten auf unserer Reitanlage intensive Lehrgänge zur Vorbereitung auf die Reitabzeichen 7 bis 2 an. Der Lehrgang richtet sich an Kinder\, Jugendliche und Erwachsene\, die ihre reiterliche Ausbildung systematisch weiterentwickeln und eine Prüfung nach den Richtlinien der FN ablegen möchten. Zur Vertiefung und Erweiterung der bereits vorhandenen\, für das jeweilige Reitabzeichen angemessenen Kenntnisse findet der Unterricht in kleinen\, leistungshomogenen Gruppen durch unsere erfahrenen Ausbilder statt. \n\nInhalte des Lehrgangs\nIm Rahmen der Lehrgangswoche kombinieren wir praktischen Reitunterricht mit fundierter Theorievermittlung. Täglich finden Reitstunden in Dressur und Springen (je nach Abzeichen) statt. In Theorieeinheiten werden unter anderem Pferdehaltung\, Fütterung\, Ausrüstung\, Tierschutz\, Unfallverhütung und die Aufgabenstellung der jeweiligen Prüfungen behandelt.\nZum Abschluss der Woche findet die offizielle Prüfung gemäß der aktuellen Richtlinien der Deutschen Reiterlichen Vereinigung (FN) statt. \nZeiten\nDer Lehrgang findet an allen Tagen von 08:00 bis 17:00 Uhr statt.\nPausen\, Mittagszeit und Theorieeinheiten sind im Tagesplan berücksichtigt und werden vor Ort bekanntgegeben. \nLehrgangsgebühren Reitabzeichen 7–2 (7 Tage)\nFür die Reitabzeichen‑Lehrgänge 7–2 gelten folgende Konditionen: \n\n\nReitabzeichen 7–2 (7 Tage) mit eigenem Pferd: 330\,00 € \n\n\nReitabzeichen 7–2 (7 Tage) mit Schulpferd: 480\,00 €\n(davon entfallen 130\,00 € auf die Nutzung eines Schulpferdes) \n\n\nIn den Lehrgangsgebühren enthalten sind: \n\n\nUnterricht an allen Lehrgangstagen \n\n\nVerpflegung (Essen während des Lehrgangs) \n\n\nPrüfungsgebühr \n\n\nUrkunde bei erfolgreicher Prüfung \n\n\nVoraussetzungen\nFür die Teilnahme an den einzelnen Reitabzeichen gelten die jeweiligen offiziellen Voraussetzungen (z.B. Mindestalter\, Vorkenntnisse\, bereits abgelegte Vorstufen). Bitte informiere dich vorab\, welches Abzeichen für dich passend ist.\nEine korrekt passende\, zugelassene Reitkappe ist verpflichtend\, eine Sicherheitsweste wird für das Springen dringend empfohlen. Eigene\, der Witterung angepasste Reitbekleidung ist mitzubringen. \nHier geht’s zur Anmeldung >>>
URL:https://hof-becker.de/event/sommerlehrgang-reitabzeichen-7-2/
LOCATION:Pferdezentrum Hof-Becker\, Brillkamp 34\, Oyten\, Niedersachsen\, 28876\, Germany
CATEGORIES:Reitabzeichen
ATTACH;FMTTYPE=image/jpeg:https://hof-becker.de/wp-content/uploads/2026/04/Reitabzeichen-Hof-Becker.jpg
ORGANIZER;CN="Pferdezentrum Hof-Becker":MAILTO:heike@hof-becker.de
END:VEVENT
END:VCALENDAR