BEGIN:VCALENDAR
VERSION:2.0
PRODID:-// - ECPv6.15.17//NONSGML v1.0//EN
CALSCALE:GREGORIAN
METHOD:PUBLISH
X-ORIGINAL-URL:https://hof-becker.de
X-WR-CALDESC:Veranstaltungen für 
REFRESH-INTERVAL;VALUE=DURATION:PT1H
X-Robots-Tag:noindex
X-PUBLISHED-TTL:PT1H
BEGIN:VTIMEZONE
TZID:UTC
BEGIN:STANDARD
TZOFFSETFROM:+0000
TZOFFSETTO:+0000
TZNAME:UTC
DTSTART:20250101T000000
END:STANDARD
END:VTIMEZONE
BEGIN:VEVENT
DTSTART;VALUE=DATE:20261003
DTEND;VALUE=DATE:20261004
DTSTAMP:20260424T153306
CREATED:20260306T092934Z
LAST-MODIFIED:20260306T092934Z
UID:135-1790985600-1791071999@hof-becker.de
SUMMARY:Hausturnier
DESCRIPTION:Infos folgen.
URL:https://hof-becker.de/event/hausturnier/
LOCATION:Pferdezentrum Hof-Becker\, Brillkamp 34\, Oyten\, Niedersachsen\, 28876\, Germany
ORGANIZER;CN="Pferdezentrum Hof-Becker":MAILTO:heike@hof-becker.de
END:VEVENT
BEGIN:VEVENT
DTSTART;TZID=UTC:20261012T080000
DTEND;TZID=UTC:20261019T170000
DTSTAMP:20260424T153306
CREATED:20260305T180632Z
LAST-MODIFIED:20260308T092752Z
UID:97-1791792000-1792429200@hof-becker.de
SUMMARY:Herbstlehrgang Reitabzeichen 7-2
DESCRIPTION:Wir bieten auf unserer Reitanlage intensive Lehrgänge zur Vorbereitung auf die Reitabzeichen 7 bis 2 an. Der Lehrgang richtet sich an Kinder\, Jugendliche und Erwachsene\, die ihre reiterliche Ausbildung systematisch weiterentwickeln und eine Prüfung nach den Richtlinien der FN ablegen möchten. Zur Vertiefung und Erweiterung der bereits vorhandenen\, für das jeweilige Reitabzeichen angemessenen Kenntnisse findet der Unterricht in kleinen\, leistungshomogenen Gruppen durch unsere erfahrenen Ausbilder statt. \n\nInhalte des Lehrgangs\nIm Rahmen der Lehrgangswoche kombinieren wir praktischen Reitunterricht mit fundierter Theorievermittlung. Täglich finden Reitstunden in Dressur und Springen (je nach Abzeichen) statt. In Theorieeinheiten werden unter anderem Pferdehaltung\, Fütterung\, Ausrüstung\, Tierschutz\, Unfallverhütung und die Aufgabenstellung der jeweiligen Prüfungen behandelt.\nZum Abschluss der Woche findet die offizielle Prüfung gemäß der aktuellen Richtlinien der Deutschen Reiterlichen Vereinigung (FN) statt. \nZeiten\nDer Lehrgang findet an allen Tagen von 08:00 bis 17:00 Uhr statt.\nPausen\, Mittagszeit und Theorieeinheiten sind im Tagesplan berücksichtigt und werden vor Ort bekanntgegeben. \nLehrgangsgebühren Reitabzeichen 7–2 (7 Tage)\nFür die Reitabzeichen‑Lehrgänge 7–2 gelten folgende Konditionen: \n\n\nReitabzeichen 7–2 (7 Tage) mit eigenem Pferd: 330\,00 € \n\n\nReitabzeichen 7–2 (7 Tage) mit Schulpferd: 480\,00 €\n(davon entfallen 130\,00 € auf die Nutzung eines Schulpferdes) \n\n\nIn den Lehrgangsgebühren enthalten sind: \n\n\nUnterricht an allen Lehrgangstagen \n\n\nVerpflegung (Essen während des Lehrgangs) \n\n\nPrüfungsgebühr \n\n\nUrkunde bei erfolgreicher Prüfung \n\n\nVoraussetzungen\nFür die Teilnahme an den einzelnen Reitabzeichen gelten die jeweiligen offiziellen Voraussetzungen (z.B. Mindestalter\, Vorkenntnisse\, bereits abgelegte Vorstufen). Bitte informiere dich vorab\, welches Abzeichen für dich passend ist.\nEine korrekt passende\, zugelassene Reitkappe ist verpflichtend\, eine Sicherheitsweste wird für das Springen dringend empfohlen. Eigene\, der Witterung angepasste Reitbekleidung ist mitzubringen. \nHier geht’s zur Anmeldung >>>
URL:https://hof-becker.de/event/herbstlehrgang-reitabzeichen-7-2/
LOCATION:Pferdezentrum Hof-Becker\, Brillkamp 34\, Oyten\, Niedersachsen\, 28876\, Germany
CATEGORIES:Reitabzeichen
ORGANIZER;CN="Pferdezentrum Hof-Becker":MAILTO:heike@hof-becker.de
END:VEVENT
BEGIN:VEVENT
DTSTART;TZID=UTC:20261021T080000
DTEND;TZID=UTC:20261023T170000
DTSTAMP:20260424T153306
CREATED:20260305T180756Z
LAST-MODIFIED:20260312T092142Z
UID:99-1792569600-1792774800@hof-becker.de
SUMMARY:Herbstlehrgang Reitabzeichen 10-8
DESCRIPTION:Wir bieten auf unserer Reitanlage kompakte Lehrgänge für die Reitabzeichen 10 bis 8 an. Dieses Angebot richtet sich besonders an Einsteiger\, jüngere Reiterinnen und Reiter sowie alle\, die ihre Grundlagen im Umgang mit dem Pferd und im Sattel sicher und strukturiert aufbauen möchten. Der Unterricht findet in kleinen Gruppen statt und wird von erfahrenen Ausbildern kindgerecht und praxisnah gestaltet. \nWas genau dich bei diesen Reitabzeichen erwartet siehst du hier >>> \nInhalte des Lehrgangs\nIm Rahmen der drei Lehrgangstage vermitteln wir die Grundlagen im Umgang mit dem Pferd sowie erste beziehungsweise weiterführende Kenntnisse im Reiten.\nDazu gehören je nach angestrebtem Reitabzeichen: \n\n\nsicherer Umgang mit dem Pferd am Boden \n\n\nPutzen\, Führen\, Satteln und Trensen \n\n\nGrundlagen des Reitens im Schritt und Trab\, ggf. erstes Galoppieren \n\n\nSitzschulung an der Longe und in der Abteilung \n\n\nkindgerechte Theorie zu Pflege\, Haltung\, Fütterung und Sicherheit im Umgang mit dem Pferd \n\n\nAm Ende des Lehrgangs besteht die Möglichkeit\, die Prüfung zum jeweiligen Reitabzeichen 10\, 9 oder 8 abzulegen. \nLehrgangsgebühr Reitabzeichen 10–8\nDie Lehrgangsgebühr für die Reitabzeichen 10–8 (3 Tage) beträgt: \n\n\n175\,00 € pro Teilnehmer/in \n\n\nIn der Lehrgangsgebühr enthalten sind: \n\n\nUnterricht an allen drei Lehrgangstagen \n\n\nVorbereitung auf die Prüfung \n\n\nPrüfungsgebühr \n\n\nUrkunde bei erfolgreicher Prüfung \n\n\nFalls du Verpflegung (Essen und Getränke) anbieten möchtest\, kannst du z.B. ergänzen:\n„Einfache Verpflegung (Snacks/Getränke) ist im Preis enthalten.“ oder „Verpflegung ist nicht enthalten und kann vor Ort erworben werden.“ \nVoraussetzungen\nDie Lehrgänge zu den Reitabzeichen 10–8 richten sich vor allem an Einsteiger und jüngere Reiterinnen und Reiter. Vorerfahrungen können je nach Abzeichen unterschiedlich sein – vom absoluten Anfänger bis zum fortgeschrittenen Anfänger.\nEine zugelassene\, korrekt passende Reitkappe ist Pflicht; bequeme\, witterungsgerechte Kleidung und festes Schuhwerk sind erforderlich. Eine Sicherheitsweste wird empfohlen\, insbesondere für ängstlichere Kinder oder erste Sprünge/Bodenricks. \nOb ein eigenes Pferd mitgebracht werden kann oder ein Schulpferd genutzt wird\, klären wir bei der Anmeldung. \nHier geht’s zur Anmeldung >>> 
URL:https://hof-becker.de/event/herbstlehrgang-10-8/
LOCATION:Pferdezentrum Hof-Becker\, Brillkamp 34\, Oyten\, Niedersachsen\, 28876\, Germany
CATEGORIES:Reitabzeichen
ORGANIZER;CN="Pferdezentrum Hof-Becker":MAILTO:heike@hof-becker.de
END:VEVENT
BEGIN:VEVENT
DTSTART;VALUE=DATE:20261025
DTEND;VALUE=DATE:20261026
DTSTAMP:20260424T153306
CREATED:20260306T093014Z
LAST-MODIFIED:20260306T093014Z
UID:137-1792886400-1792972799@hof-becker.de
SUMMARY:Halloweenreiten
DESCRIPTION:Infos folgen.
URL:https://hof-becker.de/event/halloweenreiten/
LOCATION:Pferdezentrum Hof-Becker\, Brillkamp 34\, Oyten\, Niedersachsen\, 28876\, Germany
ORGANIZER;CN="Pferdezentrum Hof-Becker":MAILTO:heike@hof-becker.de
END:VEVENT
END:VCALENDAR